BEGIN:VCALENDAR
VERSION:2.0
PRODID:-//AFPCNT - ECPv6.15.20//NONSGML v1.0//EN
CALSCALE:GREGORIAN
METHOD:PUBLISH
X-WR-CALNAME:AFPCNT
X-ORIGINAL-URL:https://afpcnt.org
X-WR-CALDESC:Évènements pour AFPCNT
REFRESH-INTERVAL;VALUE=DURATION:PT1H
X-Robots-Tag:noindex
X-PUBLISHED-TTL:PT1H
BEGIN:VTIMEZONE
TZID:Europe/Paris
BEGIN:DAYLIGHT
TZOFFSETFROM:+0100
TZOFFSETTO:+0200
TZNAME:CEST
DTSTART:20250330T010000
END:DAYLIGHT
BEGIN:STANDARD
TZOFFSETFROM:+0200
TZOFFSETTO:+0100
TZNAME:CET
DTSTART:20251026T010000
END:STANDARD
BEGIN:DAYLIGHT
TZOFFSETFROM:+0100
TZOFFSETTO:+0200
TZNAME:CEST
DTSTART:20260329T010000
END:DAYLIGHT
BEGIN:STANDARD
TZOFFSETFROM:+0200
TZOFFSETTO:+0100
TZNAME:CET
DTSTART:20261025T010000
END:STANDARD
BEGIN:DAYLIGHT
TZOFFSETFROM:+0100
TZOFFSETTO:+0200
TZNAME:CEST
DTSTART:20270328T010000
END:DAYLIGHT
BEGIN:STANDARD
TZOFFSETFROM:+0200
TZOFFSETTO:+0100
TZNAME:CET
DTSTART:20271031T010000
END:STANDARD
END:VTIMEZONE
BEGIN:VEVENT
DTSTART;TZID=Europe/Paris:20260507T170000
DTEND;TZID=Europe/Paris:20260507T180000
DTSTAMP:20260424T214500
CREATED:20260424T134210Z
LAST-MODIFIED:20260424T134344Z
UID:10000127-1778173200-1778176800@afpcnt.org
SUMMARY:WEBINAIRE 1 H POUR COMPRENDRE - L’action départementale face aux risques majeurs : zoom sur la recherche en psychologie sociale en Gironde
DESCRIPTION:L’action départementale face aux risques majeurs : quand la psychologie sociale éclaire l’action publique\nFace aux catastrophes\, les vulnérabilités ne sont pas seulement matérielles. Elles sont aussi sociales\, psychologiques\, territoriales. \nEt si mieux comprendre nos comportements face aux risques permettait aussi de mieux prévenir ? 🤔 \n▶️Comment accompagner des populations parfois durablement marquées par des événements passés ?\n ▶️Comment transformer les politiques publiques pour renforcer préparation\, solidarité et résilience ? \n👉C’est tout l’enjeu de notre prochain webinaire consacré à une démarche inédite et innovante portée par le @Département de la Gironde\, mobilisant les apports de la recherche en psychologie sociale au service de l’action publique.\n\nPARTICIPEZ À NOTRE WEBINAIRE GRATUIT : \n📅 Jeudi 7 mai 2026\n 🕔 17h – 18h\n 💻 Gratuit et 100 % en ligne \n👉 POUR VOUS INSCRIRE (obligatoire) : 1 H pour comprendre – L’action départementale face aux risques majeurs : zoom sur la recherche en psychologie sociale en Gironde | AFPCNT \nAvec : \n🎙️ Séverine Pascal\, Cheffe du service Risques Majeurs et Vulnérabilités  \n🎙️ Mathilde Sévérac\, Psychologue sociale spécialisée dans la perception des risques majeurs et la santé mentale post-catastrophe \n🎙️ Lionel Lacroix\, Ingénieur risques majeurs \nAnimé par Virginie PERROMAT pour l’AFPCNT  \nAu programme :\n ✔️ Retour sur cette démarche pionnière conduite en Gironde\n ✔️ Apports de la psychologie sociale pour mieux comprendre les vulnérabilités face aux risques\n ✔️ Enseignements pour l’accompagnement des populations et l’évolution des politiques publiques\n ✔️ Temps d’échange questions / réponses avec le public en fin de webinaire \nCollectivités\, services publics\, chercheurs\, acteurs de la prévention : ce rendez-vous est pour vous ! Nous vous attendons nombreux 🤝
URL:https://afpcnt.org/evenement/webinaire-1-h-pour-comprendre-action-departementale-recherche-psychologie-sociale-gironde/
CATEGORIES:Webinaire
ATTACH;FMTTYPE=image/jpeg:https://afpcnt.org/wp-content/uploads/2026/04/visuel-1h-pour-comprendre-mai-2026-lk.jpg
END:VEVENT
END:VCALENDAR